BEGIN:VCALENDAR
VERSION:2.0
PRODID:-//Bcyclet - ECPv5.16.3.1//NONSGML v1.0//EN
CALSCALE:GREGORIAN
METHOD:PUBLISH
X-WR-CALNAME:Bcyclet
X-ORIGINAL-URL:https://bcyclet.dev06.fr
X-WR-CALDESC:Events for Bcyclet
REFRESH-INTERVAL;VALUE=DURATION:PT1H
X-Robots-Tag:noindex
X-PUBLISHED-TTL:PT1H
BEGIN:VTIMEZONE
TZID:UTC
BEGIN:STANDARD
TZOFFSETFROM:+0000
TZOFFSETTO:+0000
TZNAME:UTC
DTSTART:20230101T000000
END:STANDARD
END:VTIMEZONE
BEGIN:VEVENT
DTSTART;TZID=UTC:20230920T080000
DTEND;TZID=UTC:20230924T170000
DTSTAMP:20260425T143456
CREATED:20221217T114534Z
LAST-MODIFIED:20221217T120010Z
UID:14139-1695196800-1695574800@bcyclet.dev06.fr
SUMMARY:Tour of the Mont-Blanc\, E-MTB with support
DESCRIPTION:
URL:https://bcyclet.dev06.fr/calendar/tour-of-the-mont-blanc-evtt-with-support/
CATEGORIES:Guided tour
END:VEVENT
BEGIN:VEVENT
DTSTART;TZID=UTC:20230816T000000
DTEND;TZID=UTC:20230820T000000
DTSTAMP:20260425T143456
CREATED:20221214T135619Z
LAST-MODIFIED:20221217T103627Z
UID:14132-1692144000-1692489600@bcyclet.dev06.fr
SUMMARY:Italian Alps long week-end\, road cycling with support
DESCRIPTION:5 days on site with 3 full days of cycling to face some of the great classics of the Giro d’Italia.\nDeparture and return from Geneva possible. \nInformation and Registration on our dedicated page: Italian Alps Classics
URL:https://bcyclet.dev06.fr/calendar/guided-dolomites-road-cycling-mid-week/
CATEGORIES:Guided tour
END:VEVENT
BEGIN:VEVENT
DTSTART;TZID=UTC:20230713T080000
DTEND;TZID=UTC:20230716T170000
DTSTAMP:20260425T143456
CREATED:20221217T115000Z
LAST-MODIFIED:20221217T115000Z
UID:14141-1689235200-1689526800@bcyclet.dev06.fr
SUMMARY:Tarantaise - Vanoise\, MTB with support
DESCRIPTION:
URL:https://bcyclet.dev06.fr/calendar/tarantaise-vanoise-mtb-with-support/
CATEGORIES:Guided tour
END:VEVENT
BEGIN:VEVENT
DTSTART;TZID=UTC:20230506T080000
DTEND;TZID=UTC:20230507T170000
DTSTAMP:20260425T143456
CREATED:20221217T130032Z
LAST-MODIFIED:20221217T130032Z
UID:14145-1683360000-1683478800@bcyclet.dev06.fr
SUMMARY:Leman lake Geneva - Montreux\, gravel week-end with support
DESCRIPTION:
URL:https://bcyclet.dev06.fr/calendar/leman-lake-geneva-montreux-gravel-week-end-with-support/
CATEGORIES:Guided tour
END:VEVENT
END:VCALENDAR