BEGIN:VCALENDAR
VERSION:2.0
PRODID:-//Bcyclet - ECPv5.16.3.1//NONSGML v1.0//EN
CALSCALE:GREGORIAN
METHOD:PUBLISH
X-ORIGINAL-URL:https://bcyclet.dev06.fr
X-WR-CALDESC:Events for Bcyclet
REFRESH-INTERVAL;VALUE=DURATION:PT1H
X-Robots-Tag:noindex
X-PUBLISHED-TTL:PT1H
BEGIN:VTIMEZONE
TZID:UTC
BEGIN:STANDARD
TZOFFSETFROM:+0000
TZOFFSETTO:+0000
TZNAME:UTC
DTSTART:20220101T000000
END:STANDARD
END:VTIMEZONE
BEGIN:VEVENT
DTSTART;TZID=UTC:20220729T160000
DTEND;TZID=UTC:20220731T100000
DTSTAMP:20260426T042405
CREATED:20210407T084627Z
LAST-MODIFIED:20220201T152541Z
UID:7150-1659110400-1659261600@bcyclet.dev06.fr
SUMMARY:Inferno Race 2022
DESCRIPTION:Are you looking for a 2022 challenge that you can take on as a pair ? Would you like to put to fruition all the winter’s hard work on your skis or on your home trainer ? Do you want an idea for a sporty summer break ? Well take the bull by the horns and sign up for the Bcyclet Inferno ! \nAll of us at Bcyclet are waiting for you from July 28th to July 31st 2022\, so come and share an extraordinary human adventure\, which will see you cycling from Annecy all the way to Nice in just 48 hours ! Our Inferno race has a very unique format as you are expected to cycle the entire 500 km and 11\,000 vertical metres alongside your partner. So have you already settled on who this lucky person\, with which you are going to tackle the most iconic cols of the Alps (Col de la Madeleine\, Col du Galibier\, La Bonette and many others) might be ? \nCome and check out this incredible route and what is on offer in our semi autonomous event and whilst you are at it\, take a look at the fantastic photos and videos from the previous editions ! \nInformation and registration on our dedicated page: Inferno Race
URL:https://bcyclet.dev06.fr/calendar/inferno-race-2022/
CATEGORIES:Race
ATTACH;FMTTYPE=image/jpeg:https://bcyclet.dev06.fr/wp-content/uploads/2021/04/Profil-Inferno-Race.jpg
END:VEVENT
END:VCALENDAR